BEGIN:VCALENDAR
VERSION:2.0
PRODID:-//Irish Photographic Federation - ECPv4.6.1//NONSGML v1.0//EN
CALSCALE:GREGORIAN
METHOD:PUBLISH
X-WR-CALNAME:Irish Photographic Federation
X-ORIGINAL-URL:http://irishphoto.ie
X-WR-CALDESC:Events for Irish Photographic Federation
BEGIN:VEVENT
DTSTART;VALUE=DATE:20171021
DTEND;VALUE=DATE:20171023
DTSTAMP:20171024T024110
CREATED:20170813T203218Z
LAST-MODIFIED:20170813T203218Z
UID:12871-1508544000-1508716799@irishphoto.ie
SUMMARY:IPF AV Championships
DESCRIPTION:\n\n\n\n
URL:http://irishphoto.ie/event/ipf-av-championships/
LOCATION:Watery Lane\, Clondalkin\, Dublin 22
END:VEVENT
END:VCALENDAR