BEGIN:VCALENDAR
VERSION:2.0
PRODID:-//Irish Photographic Federation - ECPv6.15.20//NONSGML v1.0//EN
CALSCALE:GREGORIAN
METHOD:PUBLISH
X-ORIGINAL-URL:https://irishphoto.ie
X-WR-CALDESC:Events for Irish Photographic Federation
REFRESH-INTERVAL;VALUE=DURATION:PT1H
X-Robots-Tag:noindex
X-PUBLISHED-TTL:PT1H
BEGIN:VTIMEZONE
TZID:Europe/Dublin
BEGIN:STANDARD
TZOFFSETFROM:+0000
TZOFFSETTO:+0100
TZNAME:IST
DTSTART:20250330T010000
END:STANDARD
BEGIN:DAYLIGHT
TZOFFSETFROM:+0100
TZOFFSETTO:+0000
TZNAME:GMT
DTSTART:20251026T010000
END:DAYLIGHT
BEGIN:STANDARD
TZOFFSETFROM:+0000
TZOFFSETTO:+0100
TZNAME:IST
DTSTART:20260329T010000
END:STANDARD
BEGIN:DAYLIGHT
TZOFFSETFROM:+0100
TZOFFSETTO:+0000
TZNAME:GMT
DTSTART:20261025T010000
END:DAYLIGHT
BEGIN:STANDARD
TZOFFSETFROM:+0000
TZOFFSETTO:+0100
TZNAME:IST
DTSTART:20270328T010000
END:STANDARD
BEGIN:DAYLIGHT
TZOFFSETFROM:+0100
TZOFFSETTO:+0000
TZNAME:GMT
DTSTART:20271031T010000
END:DAYLIGHT
END:VTIMEZONE
BEGIN:VEVENT
DTSTART;VALUE=DATE:20260307
DTEND;VALUE=DATE:20260308
DTSTAMP:20260419T145410
CREATED:20260128T155834Z
LAST-MODIFIED:20260128T155834Z
UID:10000018-1772841600-1772927999@irishphoto.ie
SUMMARY:31st FIAP Colour Biennial Awards Ceremony & Exhibition
DESCRIPTION:The Awards Ceremony and Exhibition Opening of the 31st FIAP Colour Biennial takes place in Dublin Camera Club (Digital Hub) on March 7th.
URL:https://irishphoto.ie/event/31st-fiap-colour-biennial-awards-ceremony-exhibition/
LOCATION:Dublin Camera Club\, The Digital Hub Thomas Street\,\, Dublin 8\, D08 TCV4\, Ireland
END:VEVENT
END:VCALENDAR