BEGIN:VCALENDAR
VERSION:2.0
PRODID:-//Irish Photographic Federation - ECPv6.15.20//NONSGML v1.0//EN
CALSCALE:GREGORIAN
METHOD:PUBLISH
X-WR-CALNAME:Irish Photographic Federation
X-ORIGINAL-URL:https://irishphoto.ie
X-WR-CALDESC:Events for Irish Photographic Federation
REFRESH-INTERVAL;VALUE=DURATION:PT1H
X-Robots-Tag:noindex
X-PUBLISHED-TTL:PT1H
BEGIN:VTIMEZONE
TZID:Europe/Dublin
BEGIN:STANDARD
TZOFFSETFROM:+0000
TZOFFSETTO:+0100
TZNAME:IST
DTSTART:20250330T010000
END:STANDARD
BEGIN:DAYLIGHT
TZOFFSETFROM:+0100
TZOFFSETTO:+0000
TZNAME:GMT
DTSTART:20251026T010000
END:DAYLIGHT
BEGIN:STANDARD
TZOFFSETFROM:+0000
TZOFFSETTO:+0100
TZNAME:IST
DTSTART:20260329T010000
END:STANDARD
BEGIN:DAYLIGHT
TZOFFSETFROM:+0100
TZOFFSETTO:+0000
TZNAME:GMT
DTSTART:20261025T010000
END:DAYLIGHT
BEGIN:STANDARD
TZOFFSETFROM:+0000
TZOFFSETTO:+0100
TZNAME:IST
DTSTART:20270328T010000
END:STANDARD
BEGIN:DAYLIGHT
TZOFFSETFROM:+0100
TZOFFSETTO:+0000
TZNAME:GMT
DTSTART:20271031T010000
END:DAYLIGHT
END:VTIMEZONE
BEGIN:VEVENT
DTSTART;VALUE=DATE:20260308
DTEND;VALUE=DATE:20260309
DTSTAMP:20260419T145323
CREATED:20260204T182855Z
LAST-MODIFIED:20260204T182855Z
UID:10000020-1772928000-1773014399@irishphoto.ie
SUMMARY:NPC North East  Regional Competition
DESCRIPTION:The NPC North East Regional Competition takes place on Sunday 8th March\, Carrickmacross Workhouse\, Carrickmacross\, Co. Monaghan. \nDirections: https://maps.google.com/maps?hl=en&gl=ie&um=1&ie=UTF-8&fb=1&sa=X&ftid=0x4860b226a9d1ffe7:0x4f4d0eceffd035b4 \n 
URL:https://irishphoto.ie/event/npc-north-east-regional-competition/
END:VEVENT
END:VCALENDAR