BEGIN:VCALENDAR
VERSION:2.0
PRODID:-//Irish Photographic Federation - ECPv6.15.20//NONSGML v1.0//EN
CALSCALE:GREGORIAN
METHOD:PUBLISH
X-ORIGINAL-URL:https://irishphoto.ie
X-WR-CALDESC:Events for Irish Photographic Federation
REFRESH-INTERVAL;VALUE=DURATION:PT1H
X-Robots-Tag:noindex
X-PUBLISHED-TTL:PT1H
BEGIN:VTIMEZONE
TZID:Europe/Dublin
BEGIN:STANDARD
TZOFFSETFROM:+0000
TZOFFSETTO:+0100
TZNAME:IST
DTSTART:20250330T010000
END:STANDARD
BEGIN:DAYLIGHT
TZOFFSETFROM:+0100
TZOFFSETTO:+0000
TZNAME:GMT
DTSTART:20251026T010000
END:DAYLIGHT
BEGIN:STANDARD
TZOFFSETFROM:+0000
TZOFFSETTO:+0100
TZNAME:IST
DTSTART:20260329T010000
END:STANDARD
BEGIN:DAYLIGHT
TZOFFSETFROM:+0100
TZOFFSETTO:+0000
TZNAME:GMT
DTSTART:20261025T010000
END:DAYLIGHT
BEGIN:STANDARD
TZOFFSETFROM:+0000
TZOFFSETTO:+0100
TZNAME:IST
DTSTART:20270328T010000
END:STANDARD
BEGIN:DAYLIGHT
TZOFFSETFROM:+0100
TZOFFSETTO:+0000
TZNAME:GMT
DTSTART:20271031T010000
END:DAYLIGHT
END:VTIMEZONE
BEGIN:VEVENT
DTSTART;VALUE=DATE:20260321
DTEND;VALUE=DATE:20260322
DTSTAMP:20260419T145432
CREATED:20260204T183029Z
LAST-MODIFIED:20260316T162954Z
UID:10000021-1774051200-1774137599@irishphoto.ie
SUMMARY:NPC SACC Regional Competition
DESCRIPTION:The NPC SACC Regional Competition takes place on Saturday 21st  March in Scoil Mhuire gan Smál\, Blarney Co.Cork \nDirections: https://www.google.com/maps/place/Scoil+Mhuire+gan+Sm%C3%A1l/@51.9325379\,-8.5624926\,17z/data=!3m1!4b1!4m6!3m5!1s0x484491652e23623d:0xb7415f15a6a464a4!8m2!3d51.9325346!4d-8.5599177!16s%2Fg%2F11c0r59b_2?entry=ttu&g_ep=EgoyMDI2MDMxMS4wIKXMDSoASAFQAw%3D%3D \n 
URL:https://irishphoto.ie/event/npc-sacc-regional-competition/
END:VEVENT
END:VCALENDAR