BEGIN:VCALENDAR
VERSION:2.0
PRODID:-//Irish Photographic Federation - ECPv6.15.20//NONSGML v1.0//EN
CALSCALE:GREGORIAN
METHOD:PUBLISH
X-WR-CALNAME:Irish Photographic Federation
X-ORIGINAL-URL:https://irishphoto.ie
X-WR-CALDESC:Events for Irish Photographic Federation
REFRESH-INTERVAL;VALUE=DURATION:PT1H
X-Robots-Tag:noindex
X-PUBLISHED-TTL:PT1H
BEGIN:VTIMEZONE
TZID:Europe/Dublin
BEGIN:STANDARD
TZOFFSETFROM:+0000
TZOFFSETTO:+0100
TZNAME:IST
DTSTART:20250330T010000
END:STANDARD
BEGIN:DAYLIGHT
TZOFFSETFROM:+0100
TZOFFSETTO:+0000
TZNAME:GMT
DTSTART:20251026T010000
END:DAYLIGHT
BEGIN:STANDARD
TZOFFSETFROM:+0000
TZOFFSETTO:+0100
TZNAME:IST
DTSTART:20260329T010000
END:STANDARD
BEGIN:DAYLIGHT
TZOFFSETFROM:+0100
TZOFFSETTO:+0000
TZNAME:GMT
DTSTART:20261025T010000
END:DAYLIGHT
BEGIN:STANDARD
TZOFFSETFROM:+0000
TZOFFSETTO:+0100
TZNAME:IST
DTSTART:20270328T010000
END:STANDARD
BEGIN:DAYLIGHT
TZOFFSETFROM:+0100
TZOFFSETTO:+0000
TZNAME:GMT
DTSTART:20271031T010000
END:DAYLIGHT
END:VTIMEZONE
BEGIN:VEVENT
DTSTART;VALUE=DATE:20260523
DTEND;VALUE=DATE:20260524
DTSTAMP:20260423T145613
CREATED:20251029T120744Z
LAST-MODIFIED:20260106T161727Z
UID:10000006-1779494400-1779580799@irishphoto.ie
SUMMARY:May 2026 Distinctions
DESCRIPTION:Distinction Sitting #2 Mullingar Arts Center.
URL:https://irishphoto.ie/event/may-2026-distinctions/
ATTACH;FMTTYPE=image/png:https://irishphoto.ie/wp-content/uploads/2025/09/distinctions_icon-e1759172822858.png
END:VEVENT
BEGIN:VEVENT
DTSTART;TZID=Europe/Dublin:20260523T093000
DTEND;TZID=Europe/Dublin:20260524T170000
DTSTAMP:20260423T145614
CREATED:20251216T163523Z
LAST-MODIFIED:20260423T122301Z
UID:10000017-1779528600-1779642000@irishphoto.ie
SUMMARY:National Club Championships
DESCRIPTION:National Club Championships 2026 – Now Open \nEntries are now open for the IPF National Club Championships 2026. \nThe Championships take place in Mullingar over the weekend of Saturday 23 and Sunday 24 May 2026\, with judging in The Atrium\, County Buildings. Entry is through the IPF online competition system\, using the same system as the Shield. \nKey dates \n\nOpens: Wednesday 22 April 2026\nCloses: Sunday 18 May 2026\, 9.00 pm\n\nClick here for more information and Handbook >>
URL:https://irishphoto.ie/event/national-club-championships/
END:VEVENT
BEGIN:VEVENT
DTSTART;VALUE=DATE:20260524
DTEND;VALUE=DATE:20260525
DTSTAMP:20260423T145614
CREATED:20251216T163417Z
LAST-MODIFIED:20260423T122456Z
UID:10000016-1779580800-1779667199@irishphoto.ie
SUMMARY:IPF AGM
DESCRIPTION:Mullingar Arts Center.
URL:https://irishphoto.ie/event/ipf-agm/
END:VEVENT
BEGIN:VEVENT
DTSTART;TZID=Europe/Dublin:20260819T090000
DTEND;TZID=Europe/Dublin:20260909T000000
DTSTAMP:20260423T145614
CREATED:20251215T202848Z
LAST-MODIFIED:20251215T202848Z
UID:10000015-1787130000-1788912000@irishphoto.ie
SUMMARY:Nature & Wildlife Competition Open
DESCRIPTION:
URL:https://irishphoto.ie/event/nature-wildlife-competition-open/
END:VEVENT
BEGIN:VEVENT
DTSTART;TZID=Europe/Dublin:20260822T090000
DTEND;TZID=Europe/Dublin:20260919T000000
DTSTAMP:20260423T145614
CREATED:20251215T202204Z
LAST-MODIFIED:20260106T161917Z
UID:10000014-1787389200-1789776000@irishphoto.ie
SUMMARY:Distinction 3 Open
DESCRIPTION:When the distinctions open the link to the application form will be here.
URL:https://irishphoto.ie/event/distinction-3-open/
END:VEVENT
BEGIN:VEVENT
DTSTART;VALUE=DATE:20260920
DTEND;VALUE=DATE:20260921
DTSTAMP:20260423T145614
CREATED:20251029T120126Z
LAST-MODIFIED:20260106T162003Z
UID:10000002-1789862400-1789948799@irishphoto.ie
SUMMARY:National Nature & Wildlife Photography Competition
DESCRIPTION:Deadline for entries.
URL:https://irishphoto.ie/event/national-nature-wildlife-photography-competition/
END:VEVENT
BEGIN:VEVENT
DTSTART;VALUE=DATE:20261010
DTEND;VALUE=DATE:20261012
DTSTAMP:20260423T145614
CREATED:20251029T115804Z
LAST-MODIFIED:20260418T100402Z
UID:10000001-1791590400-1791763199@irishphoto.ie
SUMMARY:43rd IPF National AV Championship and 11th International Open AV Competition
DESCRIPTION:This event will take place on Zoom\, the link will be available here nearer the time. More information to follow.
URL:https://irishphoto.ie/event/43rd-ipf-national-av-championship-and-11th-international-open-av-competition/
LOCATION:Zoom Meeting
ATTACH;FMTTYPE=image/jpeg:https://irishphoto.ie/wp-content/uploads/2025/10/IPF_AV_Group_Logo2-e1761845897653.jpg
END:VEVENT
BEGIN:VEVENT
DTSTART;VALUE=DATE:20261017
DTEND;VALUE=DATE:20261018
DTSTAMP:20260423T145614
CREATED:20251029T120903Z
LAST-MODIFIED:20260106T161853Z
UID:10000008-1792195200-1792281599@irishphoto.ie
SUMMARY:October 2026 Distinctions
DESCRIPTION:Distinction Sitting #3 – TUS Thurles.
URL:https://irishphoto.ie/event/october-2026-distinctions/
ATTACH;FMTTYPE=image/png:https://irishphoto.ie/wp-content/uploads/2025/09/distinctions_icon-e1759172822858.png
END:VEVENT
BEGIN:VEVENT
DTSTART;VALUE=DATE:20261107
DTEND;VALUE=DATE:20261108
DTSTAMP:20260423T145614
CREATED:20251029T120239Z
LAST-MODIFIED:20251215T202554Z
UID:10000003-1794009600-1794095999@irishphoto.ie
SUMMARY:2026 IPF National Shield Competition
DESCRIPTION:
URL:https://irishphoto.ie/event/2026-ipf-national-shield-competition/
ATTACH;FMTTYPE=image/png:https://irishphoto.ie/wp-content/uploads/2025/09/naational_shield.png
END:VEVENT
END:VCALENDAR